BEGIN:VCALENDAR
VERSION:2.0
PRODID:https://www.autohaus.de/akademie/autohaus-tuev-sued-gebrauchtwagen-forum-2026-3775730
METHOD:PUBLISH
BEGIN:VEVENT
UID: 3775730_3775709
SUMMARY:AUTOHAUS/TÜV SÜD Gebrauchtwagen-Forum 2026
DESCRIPTION:Erleben Sie inspirierende Impulsvorträge, lebendige Podiumsdiskussionen und den direkten Austausch mit erfahrenen Händlern, TÜV SÜD-Experten und der Papadopoulos Group.
CLASS:PUBLIC
DTSTART:20260505T000000
DTEND:20260505T000000
DTSTAMP:20260505T000000
LOCATION: 45127 Essen
URL:https://www.autohaus.de/akademie/autohaus-tuev-sued-gebrauchtwagen-forum-2026-3775730
END:VEVENT
END:VCALENDAR
